BEGIN:VCALENDAR
VERSION:2.0
PRODID:52º Aniversário 25 de Abril 2026 - Distribuição de Cravos pelas 
 localidades da União das Freguesias
X-WR-CALNAME:52º Aniversário 25 de Abril 2026 - Distribuição de Cravos 
 pelas localidades da União das Freguesias
X-WR-TIMEZONE:Europe/Lisbon
X-PUBLISHED-TTL:P1W
BEGIN:VTIMEZONE
TZID:Europe/Lisbon
X-LIC-LOCATION:Europe/Lisbon
END:VTIMEZONE
BEGIN:VEVENT
UID:69e8d207c23aa
DTSTART;VALUE=DATE:20260425
SEQUENCE:0
TRANSP:OPAQUE
DTEND;VALUE=DATE:20260426
SUMMARY:52º Aniversário 25 de Abril 2026 - Distribuição de Cravos pelas
  localidades da União das Freguesias
CLASS:PUBLIC
DESCRIPTION:Programa&nbsp\;HASTEAR DA BANDEIRA&nbsp\;Pisão - 8 horas&nbsp\
 ;Vale do Peso - 8 horas e 30MFlor da Rosa - 9 horasCrato - 9 horas e 30 M*
  Lembranças para as Crianças&nbsp\;
X-MICROSOFT-CDO-ALLDAYEVENT:TRUE
DTSTAMP:20260422T134959Z
END:VEVENT
END:VCALENDAR