BEGIN:VCALENDAR
VERSION:2.0
PRODID:Arranca o VivA’Praça!
X-WR-CALNAME:Arranca o VivA’Praça!
X-WR-TIMEZONE:Europe/Lisbon
X-PUBLISHED-TTL:P1W
BEGIN:VTIMEZONE
TZID:Europe/Lisbon
X-LIC-LOCATION:Europe/Lisbon
END:VTIMEZONE
BEGIN:VEVENT
UID:69e60f3f62794
DTSTART;VALUE=DATE:20260425
SEQUENCE:0
TRANSP:OPAQUE
DTEND;VALUE=DATE:20260426
SUMMARY:Arranca o VivA’Praça!
CLASS:PUBLIC
DESCRIPTION:Arranca o VivA’Praça!O Município do Crato dá início ao pr
 ograma VivA’Praça\, uma iniciativa que pretende dinamizar os espaços p
 úblicos\, promover a cultura e reforçar a vivência comunitária.       
  Este é um convite aberto a toda a comunidade: venha viver a praça com m
 úsica\, convívio e momentos pensados para todas as idades.*25 de abril*2
 2h00*Parque Temático*Kris Rosa
X-MICROSOFT-CDO-ALLDAYEVENT:TRUE
DTSTAMP:20260420T113423Z
END:VEVENT
END:VCALENDAR